BEGIN:VCALENDAR
VERSION:2.0
CALSCALE:GREGORIAN
PRODID:-//Diputació de Barcelona//DibaCMS//EN
BEGIN:VEVENT
UID:8371
DTSTAMP:20260420T123029
DTSTART:20200704T103000
DTEND:20200704T120000
SUMMARY:Activitat familiar: safari fotogràfic - dissabte
LOCATION:Capella de Sant Silvestre
Punt de trobada Masia Molí de Can Batlle 
METHOD:PUBLISH
X-WR-CALNAME:vlrn.info@vallirana.cat
X-WR-TIMEZONE:Europe/Madrid
DESCRIPTION:Activitat familiar a l'aire lliure

URI:https://www.vallirana.cat/actualitat/agenda/activitat-familiar-safari-fotografic-dissabte.html
CLASS:PUBLIC
END:VEVENT
END:VCALENDAR
