BEGIN:VCALENDAR
VERSION:2.0
CALSCALE:GREGORIAN
PRODID:-//Diputació de Barcelona//DibaCMS//EN
BEGIN:VEVENT
UID:8372
DTSTAMP:20260422T163313
DTSTART:20200705T103000
DTEND:20200705T120000
SUMMARY:Activitat familiar: safari fotogràfic - diumenge
LOCATION:Capella de Sant Silvestre
Punt de trobada Masia Molí de Can Batlle 
METHOD:PUBLISH
X-WR-CALNAME:vlrn.info@vallirana.cat
X-WR-TIMEZONE:Europe/Madrid
DESCRIPTION:Activitat familiar a l'aire lliure

URI:https://www.vallirana.cat/actualitat/agenda/activitat-familiar-safari-fotografic-diumenge.html
CLASS:PUBLIC
END:VEVENT
END:VCALENDAR
