BEGIN:VCALENDAR
VERSION:2.0
CALSCALE:GREGORIAN
PRODID:-//Diputació de Barcelona//DibaCMS//EN
BEGIN:VEVENT
UID:8386
DTSTAMP:20260421T062413
DTSTART:20200712T103000
DTEND:20200712T123000
SUMMARY:Activitats familiars: Taller de petjades - diumenge
LOCATION:c/ del Molí, 2-4 (Masia Molí de Can Batlle) 08759 Vallirana
METHOD:PUBLISH
X-WR-CALNAME:vlrn.info@vallirana.cat
X-WR-TIMEZONE:Europe/Madrid
DESCRIPTION:Places limitades

URI:https://www.vallirana.cat/actualitat/agenda/activitats-familiars-taller-de-petjades-diumenge.html
CLASS:PUBLIC
END:VEVENT
END:VCALENDAR
