BEGIN:VCALENDAR
VERSION:2.0
CALSCALE:GREGORIAN
PRODID:-//Diputació de Barcelona//DibaCMS//EN
BEGIN:VEVENT
UID:8399
DTSTAMP:20260420T154523
DTSTART:20200719T103000
DTEND:20200719T123000
SUMMARY:Activitats familiars - Hort Vertical (diumenge)
LOCATION:c/ del Molí, 2-4 (Masia Molí de Can Batlle) 08759 Vallirana
METHOD:PUBLISH
X-WR-CALNAME:vlrn.info@vallirana.cat
X-WR-TIMEZONE:Europe/Madrid
DESCRIPTION:Places limitades

URI:https://www.vallirana.cat/actualitat/agenda/activitats-familiars-hort-vertical-diumenge.html
CLASS:PUBLIC
END:VEVENT
END:VCALENDAR
