BEGIN:VCALENDAR
VERSION:2.0
CALSCALE:GREGORIAN
PRODID:-//Diputació de Barcelona//DibaCMS//EN
BEGIN:VEVENT
UID:8411
DTSTAMP:20260420T153627
DTSTART:20200722T173000
DTEND:20200722T200000
SUMMARY:Torneig Videojocs en línia
LOCATION:Activitat en línia 
METHOD:PUBLISH
X-WR-CALNAME:vlrn.info@vallirana.cat
X-WR-TIMEZONE:Europe/Madrid
DESCRIPTION:Jocs: Rocket League i FIFA 20

URI:https://www.vallirana.cat/actualitat/agenda/torneig-videojocs-en-linia.html
CLASS:PUBLIC
END:VEVENT
END:VCALENDAR
