BEGIN:VCALENDAR
VERSION:2.0
CALSCALE:GREGORIAN
PRODID:-//Diputació de Barcelona//DibaCMS//EN
BEGIN:VEVENT
UID:8497
DTSTAMP:20260421T062356
DTSTART:20201007T093000
DTEND:20201007T123000
SUMMARY:L’autoconeixement com a pilar i motor dels nostres assoliments
LOCATION:Sessió en línia 
METHOD:PUBLISH
X-WR-CALNAME:vlrn.info@vallirana.cat
X-WR-TIMEZONE:Europe/Madrid
DESCRIPTION:11a sessió de coaching en línia 

URI:https://www.vallirana.cat/actualitat/agenda/lautoconeixement-com-a-pilar-i-motor-dels-nostres-assoliments.html
CLASS:PUBLIC
END:VEVENT
END:VCALENDAR
