BEGIN:VCALENDAR
VERSION:2.0
CALSCALE:GREGORIAN
PRODID:-//Diputació de Barcelona//DibaCMS//EN
BEGIN:VEVENT
UID:8510
DTSTAMP:20260420T154203
DTSTART:20201007T180000
DTEND:20201007T193000
SUMMARY:Vull cantar Disney i bandes sonores
LOCATION:Telemàtic 
METHOD:PUBLISH
X-WR-CALNAME:vlrn.info@vallirana.cat
X-WR-TIMEZONE:Europe/Madrid
DESCRIPTION:Sessió en línia per millorar la tècnica de cant

URI:https://www.vallirana.cat/actualitat/agenda/vull-cantar-disney-i-bandes-sonores.html
CLASS:PUBLIC
END:VEVENT
END:VCALENDAR
