BEGIN:VCALENDAR
VERSION:2.0
CALSCALE:GREGORIAN
PRODID:-//Diputació de Barcelona//DibaCMS//EN
BEGIN:VEVENT
UID:8515
DTSTAMP:20260420T153426
DTSTART:20201013T100000
DTEND:20201013T120000
SUMMARY:“L’actitud com a generadora de canvis”
LOCATION:Telemàtica 
METHOD:PUBLISH
X-WR-CALNAME:vlrn.info@vallirana.cat
X-WR-TIMEZONE:Europe/Madrid
DESCRIPTION:Sessió coaching ocupacional en línia

URI:https://www.vallirana.cat/actualitat/agenda/8515-lactitud-com-a-generadora-de-canvis.html
CLASS:PUBLIC
END:VEVENT
END:VCALENDAR
