BEGIN:VCALENDAR
VERSION:2.0
CALSCALE:GREGORIAN
PRODID:-//Diputació de Barcelona//DibaCMS//EN
BEGIN:VEVENT
UID:8596
DTSTAMP:20260421T145307
DTSTART:20201107T180000
DTEND:20201107T200000
SUMMARY:Festival Guitarra Clàssica de Vallirana. 1r concert
LOCATION:Telemàtic 
METHOD:PUBLISH
X-WR-CALNAME:vlrn.info@vallirana.cat
X-WR-TIMEZONE:Europe/Madrid
DESCRIPTION:Concert amb Sergi Vicente Quintet

URI:https://www.vallirana.cat/actualitat/agenda/festival-guitarra-classica-de-vallirana-1r-concert.html
CLASS:PUBLIC
END:VEVENT
END:VCALENDAR
