BEGIN:VCALENDAR
VERSION:2.0
CALSCALE:GREGORIAN
PRODID:-//Diputació de Barcelona//DibaCMS//EN
BEGIN:VEVENT
UID:8597
DTSTAMP:20260420T141352
DTSTART:20201114T200000
DTEND:20201114T213000
SUMMARY:Festival Guitarra Clàssica de Vallirana. 2n concert
LOCATION:Telemàtic 
METHOD:PUBLISH
X-WR-CALNAME:vlrn.info@vallirana.cat
X-WR-TIMEZONE:Europe/Madrid
DESCRIPTION:Concert amb Manel García

URI:https://www.vallirana.cat/actualitat/agenda/festival-guitarra-classica-de-vallirana-2n-concert.html
CLASS:PUBLIC
END:VEVENT
END:VCALENDAR
