BEGIN:VCALENDAR
VERSION:2.0
CALSCALE:GREGORIAN
PRODID:-//Diputació de Barcelona//DibaCMS//EN
BEGIN:VEVENT
UID:8605
DTSTAMP:20260420T173830
DTSTART:20201112T180000
DTEND:20201112T193000
SUMMARY:Xerrada en línia "Game Over" 
LOCATION:Sessió telemàtica 
METHOD:PUBLISH
X-WR-CALNAME:vlrn.info@vallirana.cat
X-WR-TIMEZONE:Europe/Madrid
DESCRIPTION:No te la juguis

URI:https://www.vallirana.cat/actualitat/agenda/xerrada-en-linia-game-over-.html
CLASS:PUBLIC
END:VEVENT
END:VCALENDAR
