BEGIN:VCALENDAR
VERSION:2.0
CALSCALE:GREGORIAN
PRODID:-//Diputació de Barcelona//DibaCMS//EN
BEGIN:VEVENT
UID:8638
DTSTAMP:20260422T182252
DTSTART:20201204T183000
DTEND:20201204T200000
SUMMARY:Trobada del Club Feminista de la Biblioteca
LOCATION:Telemàtic 
METHOD:PUBLISH
X-WR-CALNAME:vlrn.info@vallirana.cat
X-WR-TIMEZONE:Europe/Madrid
DESCRIPTION:Més informació a la Biblioteca Josep M. López-Picó

URI:https://www.vallirana.cat/actualitat/agenda/trobada-del-club-feminista-de-la-biblioteca.html
CLASS:PUBLIC
END:VEVENT
END:VCALENDAR
