BEGIN:VCALENDAR
VERSION:2.0
CALSCALE:GREGORIAN
PRODID:-//Diputació de Barcelona//DibaCMS//EN
BEGIN:VEVENT
UID:8641
DTSTAMP:20260422T032519
DTSTART:20201217T180000
DTEND:20201217T190000
SUMMARY:L'hora del conte
LOCATION:Telemàtic 
METHOD:PUBLISH
X-WR-CALNAME:vlrn.info@vallirana.cat
X-WR-TIMEZONE:Europe/Madrid
DESCRIPTION:“La cartera reial Melina”

URI:https://www.vallirana.cat/actualitat/agenda/8641-lhora-del-conte.html
CLASS:PUBLIC
END:VEVENT
END:VCALENDAR
