BEGIN:VCALENDAR
VERSION:2.0
CALSCALE:GREGORIAN
PRODID:-//Diputació de Barcelona//DibaCMS//EN
BEGIN:VEVENT
UID:8706
DTSTAMP:20260420T135140
DTSTART:20210120T090000
DTEND:20210120T100000
SUMMARY:Missa de Sant Sebastià
LOCATION:08759 Vallirana
METHOD:PUBLISH
X-WR-CALNAME:vlrn.info@vallirana.cat
X-WR-TIMEZONE:Europe/Madrid
DESCRIPTION:Dins els actes de Sant Sebastià 2021

URI:https://www.vallirana.cat/actualitat/agenda/missa-de-sant-sebastia.html
CLASS:PUBLIC
END:VEVENT
END:VCALENDAR
