BEGIN:VCALENDAR
VERSION:2.0
CALSCALE:GREGORIAN
PRODID:-//Diputació de Barcelona//DibaCMS//EN
BEGIN:VEVENT
UID:8709
DTSTAMP:20260420T231143
DTSTART:20210120T190000
DTEND:20210120T191500
SUMMARY:El vot de poble, la festa pròpiament més valliranenca
LOCATION:Emissió en streaming 
METHOD:PUBLISH
X-WR-CALNAME:vlrn.info@vallirana.cat
X-WR-TIMEZONE:Europe/Madrid
DESCRIPTION:Documental amb la col·laboració d'Amics de Vallirana

URI:https://www.vallirana.cat/actualitat/agenda/el-vot-de-poble-la-festa-propiament-mes-valliranenca.html
CLASS:PUBLIC
END:VEVENT
END:VCALENDAR
