BEGIN:VCALENDAR
VERSION:2.0
CALSCALE:GREGORIAN
PRODID:-//Diputació de Barcelona//DibaCMS//EN
BEGIN:VEVENT
UID:8710
DTSTAMP:20260422T031323
DTSTART:20210123T173000
DTEND:20210123T183000
SUMMARY:Music Box
LOCATION:Emissió en streaming 
METHOD:PUBLISH
X-WR-CALNAME:vlrn.info@vallirana.cat
X-WR-TIMEZONE:Europe/Madrid
DESCRIPTION: Espectacle familiar amb la companyia Fadunito

URI:https://www.vallirana.cat/actualitat/agenda/music-box.html
CLASS:PUBLIC
END:VEVENT
END:VCALENDAR
