BEGIN:VCALENDAR
VERSION:2.0
CALSCALE:GREGORIAN
PRODID:-//Diputació de Barcelona//DibaCMS//EN
BEGIN:VEVENT
UID:8711
DTSTAMP:20260420T154056
DTSTART:20210123T193000
DTEND:20210123T194500
SUMMARY:Coneixem les colles de foc de Vallirana? Història i actualitat
LOCATION:Emissió en streaming 
METHOD:PUBLISH
X-WR-CALNAME:vlrn.info@vallirana.cat
X-WR-TIMEZONE:Europe/Madrid
DESCRIPTION:Reportatge amb els Diables Banyuts de Vallirana i el Drac Apocaleus de Vallirana.

URI:https://www.vallirana.cat/actualitat/agenda/coneixem-les-colles-de-foc-de-vallirana-historia-i-actualitat.html
CLASS:PUBLIC
END:VEVENT
END:VCALENDAR
