BEGIN:VCALENDAR
VERSION:2.0
CALSCALE:GREGORIAN
PRODID:-//Diputació de Barcelona//DibaCMS//EN
BEGIN:VEVENT
UID:8724
DTSTAMP:20260420T192917
DTSTART:20210128T180000
DTEND:20210128T183000
SUMMARY:Taller Pressupostos Participatius 2021
LOCATION:Telemàtic 
METHOD:PUBLISH
X-WR-CALNAME:vlrn.info@vallirana.cat
X-WR-TIMEZONE:Europe/Madrid
DESCRIPTION:Per aprendre a presentar propostes des de la plataforma Decidim

URI:https://www.vallirana.cat/actualitat/agenda/taller-pressupostos-participatius-2021.html
CLASS:PUBLIC
END:VEVENT
END:VCALENDAR
