BEGIN:VCALENDAR
VERSION:2.0
CALSCALE:GREGORIAN
PRODID:-//Diputació de Barcelona//DibaCMS//EN
BEGIN:VEVENT
UID:8725
DTSTAMP:20260422T080026
DTSTART:20210120T100000
DTEND:20210120T103000
SUMMARY:Acte en memòria socis difunts PBV
LOCATION:Carrer Cementiri S/N 08759 Vallirana
METHOD:PUBLISH
X-WR-CALNAME:vlrn.info@vallirana.cat
X-WR-TIMEZONE:Europe/Madrid
DESCRIPTION:Amb motiu de la diada de Sant Sebastià

URI:https://www.vallirana.cat/actualitat/agenda/acte-en-memoria-socis-difunts-pbv.html
CLASS:PUBLIC
END:VEVENT
END:VCALENDAR
