BEGIN:VCALENDAR
VERSION:2.0
CALSCALE:GREGORIAN
PRODID:-//Diputació de Barcelona//DibaCMS//EN
BEGIN:VEVENT
UID:8757
DTSTAMP:20260422T080618
DTSTART:20210205T183000
DTEND:20210205T200000
SUMMARY:Club de Lectures Feministes
LOCATION:Telemàtic 
METHOD:PUBLISH
X-WR-CALNAME:vlrn.info@vallirana.cat
X-WR-TIMEZONE:Europe/Madrid
DESCRIPTION:Comentari del llibre "Estupor i temblores", d'Amélie Nothomb

URI:https://www.vallirana.cat/actualitat/agenda/8757-club-de-lectures-feministes.html
CLASS:PUBLIC
END:VEVENT
END:VCALENDAR
