BEGIN:VCALENDAR
VERSION:2.0
CALSCALE:GREGORIAN
PRODID:-//Diputació de Barcelona//DibaCMS//EN
BEGIN:VEVENT
UID:8759
DTSTAMP:20260420T192948
DTSTART:20210224T173000
DTEND:20210224T183000
SUMMARY:Hora del conte - febrer
LOCATION:Telemàtic 
METHOD:PUBLISH
X-WR-CALNAME:vlrn.info@vallirana.cat
X-WR-TIMEZONE:Europe/Madrid
DESCRIPTION:Activitat mitjançant el canal d'Instagram de la Biblioteca

URI:https://www.vallirana.cat/actualitat/agenda/hora-del-conte-febrer.html
CLASS:PUBLIC
END:VEVENT
END:VCALENDAR
