BEGIN:VCALENDAR
VERSION:2.0
CALSCALE:GREGORIAN
PRODID:-//Diputació de Barcelona//DibaCMS//EN
BEGIN:VEVENT
UID:8803
DTSTAMP:20260420T140311
DTSTART:20210323T183000
DTEND:20210323T203000
SUMMARY:Cinefòrum de la Biblioteca març 2021
LOCATION:Telemàtic 
METHOD:PUBLISH
X-WR-CALNAME:vlrn.info@vallirana.cat
X-WR-TIMEZONE:Europe/Madrid
DESCRIPTION:El doctor Frankenstein de James Whale

URI:https://www.vallirana.cat/actualitat/agenda/cineforum-de-la-biblioteca-marc-2021.html
CLASS:PUBLIC
END:VEVENT
END:VCALENDAR
