BEGIN:VCALENDAR
VERSION:2.0
CALSCALE:GREGORIAN
PRODID:-//Diputació de Barcelona//DibaCMS//EN
BEGIN:VEVENT
UID:8857
DTSTAMP:20260422T030112
DTSTART:20210525T183000
DTEND:20210525T203000
SUMMARY:Cinefòrum Jove - Cicle "Del Còmic al cinema" 02
LOCATION:carrer Bon Retir 6-8 08759 Vallirana
METHOD:PUBLISH
X-WR-CALNAME:vlrn.info@vallirana.cat
X-WR-TIMEZONE:Europe/Madrid
DESCRIPTION:"V de Vendetta"

URI:https://www.vallirana.cat/actualitat/agenda/cineforum-jove-cicle-del-comic-al-cinema-02.html
CLASS:PUBLIC
END:VEVENT
END:VCALENDAR
