BEGIN:VCALENDAR
VERSION:2.0
CALSCALE:GREGORIAN
PRODID:-//Diputació de Barcelona//DibaCMS//EN
BEGIN:VEVENT
UID:8858
DTSTAMP:20260423T054859
DTSTART:20210630T183000
DTEND:20210630T203000
SUMMARY:Cinefòrum Jove - Cicle "Del Còmic al cinema" 03
LOCATION:carrer Bon Retir 6-8 08759 Vallirana
METHOD:PUBLISH
X-WR-CALNAME:vlrn.info@vallirana.cat
X-WR-TIMEZONE:Europe/Madrid
DESCRIPTION:"Watchmen"

URI:https://www.vallirana.cat/actualitat/agenda/cineforum-jove-cicle-del-comic-al-cinema-03.html
CLASS:PUBLIC
END:VEVENT
END:VCALENDAR
