BEGIN:VCALENDAR
VERSION:2.0
CALSCALE:GREGORIAN
PRODID:-//Diputació de Barcelona//DibaCMS//EN
BEGIN:VEVENT
UID:8871
DTSTAMP:20260420T193101
DTSTART:20210416T183000
DTEND:20210416T193000
SUMMARY:Taller de cardio salvament
LOCATION:c/ del Molí, 2-4 (Masia Molí de Can Batlle) 08759 Vallirana
METHOD:PUBLISH
X-WR-CALNAME:vlrn.info@vallirana.cat
X-WR-TIMEZONE:Europe/Madrid
DESCRIPTION:a càrrec de Protecció Civil de Vallirana

URI:https://www.vallirana.cat/actualitat/agenda/taller-de-cardio-salvament.html
CLASS:PUBLIC
END:VEVENT
END:VCALENDAR
