BEGIN:VCALENDAR
VERSION:2.0
CALSCALE:GREGORIAN
PRODID:-//Diputació de Barcelona//DibaCMS//EN
BEGIN:VEVENT
UID:8872
DTSTAMP:20260421T150004
DTSTART:20210423T203000
DTEND:20210423T220000
SUMMARY:Autocine: Scooby!
LOCATION:Pàrquing Can Prunera 
METHOD:PUBLISH
X-WR-CALNAME:vlrn.info@vallirana.cat
X-WR-TIMEZONE:Europe/Madrid
DESCRIPTION:
URI:https://www.vallirana.cat/actualitat/agenda/autocine-scooby.html
CLASS:PUBLIC
END:VEVENT
END:VCALENDAR
