BEGIN:VCALENDAR
VERSION:2.0
CALSCALE:GREGORIAN
PRODID:-//Diputació de Barcelona//DibaCMS//EN
BEGIN:VEVENT
UID:8878
DTSTAMP:20260422T051726
DTSTART:20210418T113000
DTEND:20210418T123000
SUMMARY:Pedalada familiar
LOCATION:Punt de sortida: rambla de la Sobirania 
METHOD:PUBLISH
X-WR-CALNAME:vlrn.info@vallirana.cat
X-WR-TIMEZONE:Europe/Madrid
DESCRIPTION:Consulteu recorregut

URI:https://www.vallirana.cat/actualitat/agenda/pedalada-familiar.html
CLASS:PUBLIC
END:VEVENT
END:VCALENDAR
