BEGIN:VCALENDAR
VERSION:2.0
CALSCALE:GREGORIAN
PRODID:-//Diputació de Barcelona//DibaCMS//EN
BEGIN:VEVENT
UID:8900
DTSTAMP:20260422T235403
DTSTART:20210423T173000
DTEND:20210423T183000
SUMMARY:Taller de dracs
LOCATION:carrer Bon Retir 6-8 08759 Vallirana
METHOD:PUBLISH
X-WR-CALNAME:vlrn.info@vallirana.cat
X-WR-TIMEZONE:Europe/Madrid
DESCRIPTION:Com fer un drac de Sant Jordi amb un mitjó vell

URI:https://www.vallirana.cat/actualitat/agenda/taller-de-dracs.html
CLASS:PUBLIC
END:VEVENT
END:VCALENDAR
