BEGIN:VCALENDAR
VERSION:2.0
CALSCALE:GREGORIAN
PRODID:-//Diputació de Barcelona//DibaCMS//EN
BEGIN:VEVENT
UID:8901
DTSTAMP:20260421T062323
DTSTART:20210424T110000
DTEND:20210424T133000
SUMMARY:Taller reparació petits electrodomèstics
LOCATION:carrer Bon Retir 6-8 08759 Vallirana
METHOD:PUBLISH
X-WR-CALNAME:vlrn.info@vallirana.cat
X-WR-TIMEZONE:Europe/Madrid
DESCRIPTION:Canvia el xip! Recicla'ls!

URI:https://www.vallirana.cat/actualitat/agenda/taller-reparacio-petits-electrodomestics.html
CLASS:PUBLIC
END:VEVENT
END:VCALENDAR
