BEGIN:VCALENDAR
VERSION:2.0
CALSCALE:GREGORIAN
PRODID:-//Diputació de Barcelona//DibaCMS//EN
BEGIN:VEVENT
UID:8914
DTSTAMP:20260421T004922
DTSTART:20210506T190000
DTEND:20210506T200000
SUMMARY:Presentació del llibre “El treball i el paisatge de la pedra: la Vallirana mineral”
LOCATION:carrer Bon Retir 6-8 08759 Vallirana
METHOD:PUBLISH
X-WR-CALNAME:vlrn.info@vallirana.cat
X-WR-TIMEZONE:Europe/Madrid
DESCRIPTION:Dijous 6 de maig a la Biblioteca amb inscripció prèvia

URI:https://www.vallirana.cat/actualitat/agenda/8914-presentacio-del-llibre-el-treball-i-el-paisatge-de-la-pedra-la-vallirana-mineral.html
CLASS:PUBLIC
END:VEVENT
END:VCALENDAR
