BEGIN:VCALENDAR
VERSION:2.0
CALSCALE:GREGORIAN
PRODID:-//Diputació de Barcelona//DibaCMS//EN
BEGIN:VEVENT
UID:8925
DTSTAMP:20260420T153346
DTSTART:20210514T173000
DTEND:20210514T183000
SUMMARY:Storytime
LOCATION:carrer Bon Retir 6-8 08759 Vallirana
METHOD:PUBLISH
X-WR-CALNAME:vlrn.info@vallirana.cat
X-WR-TIMEZONE:Europe/Madrid
DESCRIPTION:Hora del conte en anglès

URI:https://www.vallirana.cat/actualitat/agenda/storytime.html
CLASS:PUBLIC
END:VEVENT
END:VCALENDAR
