BEGIN:VCALENDAR
VERSION:2.0
CALSCALE:GREGORIAN
PRODID:-//Diputació de Barcelona//DibaCMS//EN
BEGIN:VEVENT
UID:8926
DTSTAMP:20260422T034922
DTSTART:20210503T173000
DTEND:20210515T133000
SUMMARY:Exposició "L'aparador de les meravelles"
LOCATION:carrer Bon Retir 6-8 08759 Vallirana
METHOD:PUBLISH
X-WR-CALNAME:vlrn.info@vallirana.cat
X-WR-TIMEZONE:Europe/Madrid
DESCRIPTION:
URI:https://www.vallirana.cat/actualitat/agenda/exposicio-laparador-de-les-meravelles.html
CLASS:PUBLIC
END:VEVENT
END:VCALENDAR
