BEGIN:VCALENDAR
VERSION:2.0
CALSCALE:GREGORIAN
PRODID:-//Diputació de Barcelona//DibaCMS//EN
BEGIN:VEVENT
UID:8928
DTSTAMP:20260421T145512
DTSTART:20210531T173000
DTEND:20210531T183000
SUMMARY:Hora del conte maig
LOCATION:carrer Bon Retir 6-8 08759 Vallirana
METHOD:PUBLISH
X-WR-CALNAME:vlrn.info@vallirana.cat
X-WR-TIMEZONE:Europe/Madrid
DESCRIPTION:Canvia el xip. Recicla'ls

URI:https://www.vallirana.cat/actualitat/agenda/hora-del-conte-maig.html
CLASS:PUBLIC
END:VEVENT
END:VCALENDAR
