BEGIN:VCALENDAR
VERSION:2.0
CALSCALE:GREGORIAN
PRODID:-//Diputació de Barcelona//DibaCMS//EN
BEGIN:VEVENT
UID:8939
DTSTAMP:20260421T145614
DTSTART:20210515T123000
DTEND:20210515T143000
SUMMARY:Inauguració restauració capella Sant Silvestre
LOCATION:08759 Vallirana
METHOD:PUBLISH
X-WR-CALNAME:vlrn.info@vallirana.cat
X-WR-TIMEZONE:Europe/Madrid
DESCRIPTION:Amb visites guiades programades

URI:https://www.vallirana.cat/actualitat/agenda/inauguracio-restauracio-capella-sant-silvestre.html
CLASS:PUBLIC
END:VEVENT
END:VCALENDAR
