BEGIN:VCALENDAR
VERSION:2.0
CALSCALE:GREGORIAN
PRODID:-//Diputació de Barcelona//DibaCMS//EN
BEGIN:VEVENT
UID:8976
DTSTAMP:20260421T145411
DTSTART:20210605T190000
DTEND:20210605T203000
SUMMARY:Lliurament Premis Literaris Vila de Vallirana
LOCATION:
METHOD:PUBLISH
X-WR-CALNAME:vlrn.info@vallirana.cat
X-WR-TIMEZONE:Europe/Madrid
DESCRIPTION:L'acte es farà al restaurant Selva Negra però només s'hi pot accedir amb invitació

URI:https://www.vallirana.cat/actualitat/agenda/lliurament-premis-literaris-vila-de-vallirana.html
CLASS:PUBLIC
END:VEVENT
END:VCALENDAR
