BEGIN:VCALENDAR
VERSION:2.0
CALSCALE:GREGORIAN
PRODID:-//Diputació de Barcelona//DibaCMS//EN
BEGIN:VEVENT
UID:9026
DTSTAMP:20260422T150431
DTSTART:20210709T220000
DTEND:20210709T234500
SUMMARY:Cinema a la fresca “Las Brujas” de Roald Dahl
LOCATION:C/ de l'hostal 08759 Vallirana
METHOD:PUBLISH
X-WR-CALNAME:vlrn.info@vallirana.cat
X-WR-TIMEZONE:Europe/Madrid
DESCRIPTION:Cal reservar invitació

URI:https://www.vallirana.cat/actualitat/agenda/cinema-a-la-fresca-las-brujas-de-roald-dahl.html
CLASS:PUBLIC
END:VEVENT
END:VCALENDAR
