BEGIN:VCALENDAR
VERSION:2.0
CALSCALE:GREGORIAN
PRODID:-//Diputació de Barcelona//DibaCMS//EN
BEGIN:VEVENT
UID:9318
DTSTAMP:20260422T142535
DTSTART:20220117T000000
DTEND:20220123T200000
SUMMARY:Sant Sebastià 2022
LOCATION:
METHOD:PUBLISH
X-WR-CALNAME:vlrn.info@vallirana.cat
X-WR-TIMEZONE:Europe/Madrid
DESCRIPTION:Programa d'activitats de les festes de Sant Sebastià 2022

URI:https://www.vallirana.cat/actualitat/agenda/sant-sebastia-2022.html
CLASS:PUBLIC
END:VEVENT
END:VCALENDAR
