BEGIN:VCALENDAR
VERSION:2.0
CALSCALE:GREGORIAN
PRODID:-//Diputació de Barcelona//DibaCMS//EN
BEGIN:VEVENT
UID:9324
DTSTAMP:20260422T005208
DTSTART:20220308T080000
DTEND:20220308T210000
SUMMARY:Dia Internacional de la Dona Treballadora
LOCATION:
METHOD:PUBLISH
X-WR-CALNAME:vlrn.info@vallirana.cat
X-WR-TIMEZONE:Europe/Madrid
DESCRIPTION:
URI:https://www.vallirana.cat/actualitat/agenda/dia-internacional-de-la-dona-treballadora.html
CLASS:PUBLIC
END:VEVENT
END:VCALENDAR
