BEGIN:VCALENDAR
VERSION:2.0
CALSCALE:GREGORIAN
PRODID:-//Diputació de Barcelona//DibaCMS//EN
BEGIN:VEVENT
UID:9334
DTSTAMP:20260422T031916
DTSTART:20220210T183000
DTEND:20220210T200000
SUMMARY:Presentació del llibre: "Enlaire les ales"
LOCATION:carrer Bon Retir 6-8 08759 Vallirana
METHOD:PUBLISH
X-WR-CALNAME:vlrn.info@vallirana.cat
X-WR-TIMEZONE:Europe/Madrid
DESCRIPTION:Rosa Vendrell

URI:https://www.vallirana.cat/actualitat/agenda/presentacio-del-llibre-enlaire-les-ales.html
CLASS:PUBLIC
END:VEVENT
END:VCALENDAR
