BEGIN:VCALENDAR
VERSION:2.0
CALSCALE:GREGORIAN
PRODID:-//Diputació de Barcelona//DibaCMS//EN
BEGIN:VEVENT
UID:9342
DTSTAMP:20260422T115448
DTSTART:20220216T183000
DTEND:20220216T200000
SUMMARY:Xerrada + presentació: Sigues una persona magnètica
LOCATION:carrer Bon Retir 6-8 08759 Vallirana
METHOD:PUBLISH
X-WR-CALNAME:vlrn.info@vallirana.cat
X-WR-TIMEZONE:Europe/Madrid
DESCRIPTION:A càrrec d'Olga Jiménez.

URI:https://www.vallirana.cat/actualitat/agenda/xerrada--presentacio-sigues-una-persona-magnetica.html
CLASS:PUBLIC
END:VEVENT
END:VCALENDAR
