BEGIN:VCALENDAR
VERSION:2.0
CALSCALE:GREGORIAN
PRODID:-//Diputació de Barcelona//DibaCMS//EN
BEGIN:VEVENT
UID:9344
DTSTAMP:20260422T135524
DTSTART:20220219T110000
DTEND:20220219T130000
SUMMARY:Xerrada + taller: Cultivant l'autocompassió 
LOCATION:carrer Bon Retir 6-8 08759 Vallirana
METHOD:PUBLISH
X-WR-CALNAME:vlrn.info@vallirana.cat
X-WR-TIMEZONE:Europe/Madrid
DESCRIPTION:A càrrec de Ma Jesús Sánchez.

URI:https://www.vallirana.cat/actualitat/agenda/xerrada--taller-cultivant-lautocompassio-.html
CLASS:PUBLIC
END:VEVENT
END:VCALENDAR
