BEGIN:VCALENDAR
VERSION:2.0
CALSCALE:GREGORIAN
PRODID:-//Diputació de Barcelona//DibaCMS//EN
BEGIN:VEVENT
UID:9370
DTSTAMP:20260422T034954
DTSTART:20220228T163000
DTEND:20220328T210000
SUMMARY:Exposició "El taller al detall"
LOCATION:c/ del Molí, 2-4 (Masia Molí de Can Batlle) 08759 Vallirana
METHOD:PUBLISH
X-WR-CALNAME:vlrn.info@vallirana.cat
X-WR-TIMEZONE:Europe/Madrid
DESCRIPTION:Esmalts: del 28 de febrer al 14 de març. Costura: del 14 al 28 de març. 

 

URI:https://www.vallirana.cat/actualitat/agenda/exposicio-el-taller-al-detall.html
CLASS:PUBLIC
END:VEVENT
END:VCALENDAR
