BEGIN:VCALENDAR
VERSION:2.0
CALSCALE:GREGORIAN
PRODID:-//Diputació de Barcelona//DibaCMS//EN
BEGIN:VEVENT
UID:9386
DTSTAMP:20260423T034239
DTSTART:20220303T173000
DTEND:20220303T183000
SUMMARY:Hora del conte per nadons 
LOCATION:carrer Bon Retir 6-8 08759 Vallirana
METHOD:PUBLISH
X-WR-CALNAME:vlrn.info@vallirana.cat
X-WR-TIMEZONE:Europe/Madrid
DESCRIPTION:A càrrec de Clara Gavaldà. Cal inscripció prèvia. 

URI:https://www.vallirana.cat/actualitat/agenda/hora-del-conte-per-nadons-.html
CLASS:PUBLIC
END:VEVENT
END:VCALENDAR
