BEGIN:VCALENDAR
VERSION:2.0
CALSCALE:GREGORIAN
PRODID:-//Diputació de Barcelona//DibaCMS//EN
BEGIN:VEVENT
UID:9387
DTSTAMP:20260422T032301
DTSTART:20220317T173000
DTEND:20220317T190000
SUMMARY:Taller de Toca-toca
LOCATION:carrer Bon Retir 6-8 08759 Vallirana
METHOD:PUBLISH
X-WR-CALNAME:vlrn.info@vallirana.cat
X-WR-TIMEZONE:Europe/Madrid
DESCRIPTION:A càrrec de Bioeduca. Cal inscripció prèvia. 

URI:https://www.vallirana.cat/actualitat/agenda/taller-de-toca-toca.html
CLASS:PUBLIC
END:VEVENT
END:VCALENDAR
