BEGIN:VCALENDAR
VERSION:2.0
CALSCALE:GREGORIAN
PRODID:-//Diputació de Barcelona//DibaCMS//EN
BEGIN:VEVENT
UID:9393
DTSTAMP:20260422T120939
DTSTART:20220308T174500
DTEND:20220308T184500
SUMMARY:Lectura del manifest institucional
LOCATION:Carrer Major 329 08759 Vallirana
METHOD:PUBLISH
X-WR-CALNAME:vlrn.info@vallirana.cat
X-WR-TIMEZONE:Europe/Madrid
DESCRIPTION:
URI:https://www.vallirana.cat/actualitat/agenda/lectura-del-manifest-institucional.html
CLASS:PUBLIC
END:VEVENT
END:VCALENDAR
