BEGIN:VCALENDAR
VERSION:2.0
CALSCALE:GREGORIAN
PRODID:-//Diputació de Barcelona//DibaCMS//EN
BEGIN:VEVENT
UID:9396
DTSTAMP:20260422T020355
DTSTART:20220310T183000
DTEND:20220310T200000
SUMMARY:Taller - exposició: Elles han fet història
LOCATION:Carrer Major, 616 08759 Vallirana
METHOD:PUBLISH
X-WR-CALNAME:vlrn.info@vallirana.cat
X-WR-TIMEZONE:Europe/Madrid
DESCRIPTION:Places limitades. Inscripcions a l'Instagram del Casal de Joves (@casaljovesvallirana). 

URI:https://www.vallirana.cat/actualitat/agenda/taller-exposicio-elles-han-fet-historia.html
CLASS:PUBLIC
END:VEVENT
END:VCALENDAR
