BEGIN:VCALENDAR
VERSION:2.0
CALSCALE:GREGORIAN
PRODID:-//Diputació de Barcelona//DibaCMS//EN
BEGIN:VEVENT
UID:9409
DTSTAMP:20260422T054447
DTSTART:20220311T000000
DTEND:20220311T000000
SUMMARY:Exposició: "Sentimientos pictóricos en el paisaje"
LOCATION:c/ del Molí, 2-4 (Masia Molí de Can Batlle) 08759 Vallirana
METHOD:PUBLISH
X-WR-CALNAME:vlrn.info@vallirana.cat
X-WR-TIMEZONE:Europe/Madrid
DESCRIPTION:de José María Jiménez Pérez-Muelas.

URI:https://www.vallirana.cat/actualitat/agenda/exposicio-sentimientos-pictoricos-en-el-paisaje.html
CLASS:PUBLIC
END:VEVENT
END:VCALENDAR
