BEGIN:VCALENDAR
VERSION:2.0
CALSCALE:GREGORIAN
PRODID:-//Diputació de Barcelona//DibaCMS//EN
BEGIN:VEVENT
UID:9644
DTSTAMP:20260422T182327
DTSTART:20220911T090000
DTEND:20220911T120000
SUMMARY:Cursa Popular 11 de setembre 2022
LOCATION:Av. Parellada 08759 Vallirana
METHOD:PUBLISH
X-WR-CALNAME:vlrn.info@vallirana.cat
X-WR-TIMEZONE:Europe/Madrid
DESCRIPTION:Durant tot el matí curses per edats

URI:https://www.vallirana.cat/actualitat/agenda/cursa-popular-11-de-setembre-2022.html
CLASS:PUBLIC
END:VEVENT
END:VCALENDAR
