BEGIN:VCALENDAR
VERSION:2.0
CALSCALE:GREGORIAN
PRODID:-//Diputació de Barcelona//DibaCMS//EN
BEGIN:VEVENT
UID:9647
DTSTAMP:20260422T235434
DTSTART:20220916T213000
DTEND:20220916T235900
SUMMARY:Sopar Popular Festa Major 2022 i ball amb l'orquestra Mediterrània
LOCATION:Parc central 08759 Vallirana
METHOD:PUBLISH
X-WR-CALNAME:vlrn.info@vallirana.cat
X-WR-TIMEZONE:Europe/Madrid
DESCRIPTION:Reserva de cadires a la Masia Molí de Can Batlle,
de 10.00 a 14.00 h i de 18.00 a 20.30 h de
dilluns a divendres.
Data límit de reserva: 14 de setembre.
 

URI:https://www.vallirana.cat/actualitat/agenda/sopar-popular-festa-major-2022-i-ball-amb-lorquestra-mediterrania.html
CLASS:PUBLIC
END:VEVENT
END:VCALENDAR
